BEGIN:VCALENDAR
PRODID:-//github.com/rianjs/ical.net//NONSGML ical.net 4.0//EN
VERSION:2.0
BEGIN:VEVENT
DESCRIPTION:Kreativa Europa är EU:s program för de kulturella och kreativa
  sektorerna. Det här stödet kan sökas för samarbetsprojekt mellan ukrains
 ka och europeiska kulturaktörer som stärker kulturellt deltagande\, integ
 ration av flyktingar och psykiskt välmående.
DTEND:20260401T125900
DTSTAMP:20260422T103941Z
DTSTART;VALUE=DATE:20260123
SEQUENCE:0
SUMMARY:Kultur främjar solidaritet – samarbetsprojekt
UID:ccb86db5-b381-44ea-b6e4-2c86ec8689e2
URL:https://www.kulturradet.se/sok-bidrag/kultur-framjar-solidaritet--sama
 rbetsprojekt/
END:VEVENT
END:VCALENDAR
